BEGIN:VCALENDAR
VERSION:2.0
PRODID:-//Nehren Aktiv - ECPv6.15.20//NONSGML v1.0//EN
CALSCALE:GREGORIAN
METHOD:PUBLISH
X-ORIGINAL-URL:https://nehren-aktiv.de
X-WR-CALDESC:Veranstaltungen für Nehren Aktiv
REFRESH-INTERVAL;VALUE=DURATION:PT1H
X-Robots-Tag:noindex
X-PUBLISHED-TTL:PT1H
BEGIN:VTIMEZONE
TZID:Europe/Paris
BEGIN:DAYLIGHT
TZOFFSETFROM:+0100
TZOFFSETTO:+0200
TZNAME:CEST
DTSTART:20240331T010000
END:DAYLIGHT
BEGIN:STANDARD
TZOFFSETFROM:+0200
TZOFFSETTO:+0100
TZNAME:CET
DTSTART:20241027T010000
END:STANDARD
BEGIN:DAYLIGHT
TZOFFSETFROM:+0100
TZOFFSETTO:+0200
TZNAME:CEST
DTSTART:20250330T010000
END:DAYLIGHT
BEGIN:STANDARD
TZOFFSETFROM:+0200
TZOFFSETTO:+0100
TZNAME:CET
DTSTART:20251026T010000
END:STANDARD
BEGIN:DAYLIGHT
TZOFFSETFROM:+0100
TZOFFSETTO:+0200
TZNAME:CEST
DTSTART:20260329T010000
END:DAYLIGHT
BEGIN:STANDARD
TZOFFSETFROM:+0200
TZOFFSETTO:+0100
TZNAME:CET
DTSTART:20261025T010000
END:STANDARD
END:VTIMEZONE
BEGIN:VEVENT
DTSTART;TZID=Europe/Paris:20250508T130000
DTEND;TZID=Europe/Paris:20250508T183000
DTSTAMP:20260422T013938
CREATED:20250328T075630Z
LAST-MODIFIED:20250422T122913Z
UID:15665-1746709200-1746729000@nehren-aktiv.de
SUMMARY:Schloß Bebenhausen
DESCRIPTION:
URL:https://nehren-aktiv.de/event/schloss-bebenhausen/
LOCATION:Treff: Bürgerhaus Nehren
CATEGORIES:Kultur,Touristik,Wandern
ORGANIZER;CN="Nehren Aktiv":MAILTO:info@nehren-aktiv.de
END:VEVENT
END:VCALENDAR